BEGIN:VCALENDAR
VERSION:2.0
PRODID:-//hacksw/handcal//NONSGML v1.0//EN
BEGIN:VEVENT
SUMMARY:Sortie de preparation de la randonnee "Longue distance 150 km" du jeudi 23 avril 2026
UID:0d2cb4bd-0b91-4e3c-b553-e0fbf6715422
DTSTART:20260416T053000Z
DTEND:20260416T103000Z
LOCATION:Localisation   
CATEGORIES:Sportif
STATUS:
DESCRIPTION:<ul>
 	<li><span style="font-size:16px;"><u><strong>Sortie
 de preparation le jeudi 16 avril
 2026:</strong></u></span></li>
 </ul>
 
 <p>- Depart : 7h30 du local des
 cyclos.</p>
 
 <p>- Le parcours propose (122 km vers Plemet, Brehant,
 La Trinite Porhouet...) : <a
 href="https://www.openrunner.com/route-details/23654261"
 target="_blank" rel="noreferrer
 noopener">https://www.openrunner.com/route-details/23654261</a></p>
URL;VALUE=URI:https://amicalecyclotourismebroonaise.sportsregions.fr/evenements/2026/04/16/sortie-de-preparation-de-la-randonnee-longue-distance-150-km-du-jeudi-23-avril-2026-2440001
END:VEVENT
END:VCALENDAR
